BEGIN:VCALENDAR
VERSION:2.0
PRODID:-//Carrefour des femmes de Saint-Léonard - ECPv6.6.2//NONSGML v1.0//EN
CALSCALE:GREGORIAN
METHOD:PUBLISH
X-WR-CALNAME:Carrefour des femmes de Saint-Léonard
X-ORIGINAL-URL:https://cfsl-femmes.com
X-WR-CALDESC:évènements pour Carrefour des femmes de Saint-Léonard
REFRESH-INTERVAL;VALUE=DURATION:PT1H
X-Robots-Tag:noindex
X-PUBLISHED-TTL:PT1H
BEGIN:VTIMEZONE
TZID:UTC
BEGIN:STANDARD
TZOFFSETFROM:+0000
TZOFFSETTO:+0000
TZNAME:UTC
DTSTART:20260101T000000
END:STANDARD
END:VTIMEZONE
BEGIN:VEVENT
DTSTART;TZID=UTC:20260423T093000
DTEND;TZID=UTC:20260423T113000
DTSTAMP:20260423T015022
CREATED:20260402T151931Z
LAST-MODIFIED:20260402T151931Z
UID:1297-1776936600-1776943800@cfsl-femmes.com
SUMMARY:☀️ Les matinées découvertes : Qu’est-ce que l’Intelligence artificielle (IA)? - En présentiel
DESCRIPTION:Avec La Petite Formation\nPlaces disponibles : 15 \nDécouvrez ce qu’est l’intelligence artificielle\, comment est-elle utilisée et comment s’en servir. Un incontournable en 2026! \nPrix membre : Gratuit / Prix non-membre : Gratuit
URL:https://cfsl-femmes.com/event/%e2%98%80%ef%b8%8f-les-matinees-decouvertes-quest-ce-que-lintelligence-artificielle-ia-en-presentiel/
CATEGORIES:Ateliers
END:VEVENT
BEGIN:VEVENT
DTSTART;TZID=UTC:20260423T100000
DTEND;TZID=UTC:20260423T120000
DTSTAMP:20260423T015022
CREATED:20260402T151912Z
LAST-MODIFIED:20260402T151912Z
UID:1278-1776938400-1776945600@cfsl-femmes.com
SUMMARY:🧘‍♀️ Comment s’adapter aux changements de la vie? - Sur Zoom
DESCRIPTION:Animatrice : Diane Beauregard\, coach de vie\, hypnothérapeute et autrice\nPlaces disponibles : 100 \nL’instabilité provoquée par les défis du quotidien en tant que proche aidante exige d’être bien outillée. Comment accompagner une personne en perte d’autonomie sans projeter notre propre détresse dans son vécu ni vouloir la prendre en charge démesurément? Comment s’y prendre efficacement? C’est la question auquel cet atelier répondra en vous suggérant trucs et astuces. Vous découvrirez chez vous un potentiel de capacités jusqu’ici insoupçonné pour faire face aux différents défis de la vie\, tout en conservant énergie\, stabilité et bonne humeur. \nPriorité aux proches aidantes. \nPrix membre : Gratuit / Prix non-membre : Gratuit
URL:https://cfsl-femmes.com/event/%f0%9f%a7%98%e2%99%80%ef%b8%8f-comment-sadapter-aux-changements-de-la-vie-sur-zoom/
CATEGORIES:Proches aidantes
END:VEVENT
BEGIN:VEVENT
DTSTART;TZID=UTC:20260423T133000
DTEND;TZID=UTC:20260423T143000
DTSTAMP:20260423T015022
CREATED:20260402T151913Z
LAST-MODIFIED:20260402T151913Z
UID:1282-1776951000-1776954600@cfsl-femmes.com
SUMMARY:💻 Ateliers d’informatique - Dans la grande salle
DESCRIPTION:Animatrice : Syrine Cherni\, agente informatique\nPlaces disponibles : 15 \nThème du jour : Sensibilisation à la sécurité sur Internet.\nCet atelier a pour but de comprendre les risques\, protéger ses données personnelles et adopter les bons réflexes pour naviguer en ligne de façon plus sûre au quotidien. Il vous permettra aussi de mieux reconnaître les situations à risque et d’apprendre comment réagir face aux problèmes courants. \nPrix membre : Gratuit / Prix non-membre : Gratuit
URL:https://cfsl-femmes.com/event/%f0%9f%92%bb-ateliers-dinformatique-dans-la-grande-salle/
CATEGORIES:Ateliers
END:VEVENT
END:VCALENDAR