BEGIN:VCALENDAR
VERSION:2.0
PRODID:-//Carrefour des femmes de Saint-Léonard - ECPv6.6.2//NONSGML v1.0//EN
CALSCALE:GREGORIAN
METHOD:PUBLISH
X-WR-CALNAME:Carrefour des femmes de Saint-Léonard
X-ORIGINAL-URL:https://cfsl-femmes.com
X-WR-CALDESC:évènements pour Carrefour des femmes de Saint-Léonard
REFRESH-INTERVAL;VALUE=DURATION:PT1H
X-Robots-Tag:noindex
X-PUBLISHED-TTL:PT1H
BEGIN:VTIMEZONE
TZID:UTC
BEGIN:STANDARD
TZOFFSETFROM:+0000
TZOFFSETTO:+0000
TZNAME:UTC
DTSTART:20250101T000000
END:STANDARD
END:VTIMEZONE
BEGIN:VEVENT
DTSTART;TZID=UTC:20250423T133000
DTEND;TZID=UTC:20250423T153000
DTSTAMP:20260420T030538
CREATED:20250320T165024Z
LAST-MODIFIED:20250320T165024Z
UID:336-1745415000-1745422200@cfsl-femmes.com
SUMMARY:Conférence - Les tiques et la maladie de Lyme : ce que vous devez savoir
DESCRIPTION:**Conférencier : Dr Michel Chénier****Places disponibles : 40 en présentiel\, 100 sur Zoom** \nComme il est agréable de faire des promenades en pleine nature! Cependant\, les tiques qui transmettent la maladie de Lyme ont envahi le Québec; il est important de connaître ce parasite afin de se prémunir des maladies qu’il transporte. \nDurant cette conférence\, il sera question des sujets suivants :\n1. Biologie des tiques.\n2. Tiques comme vecteurs de maladies.\n3. Comportement à risque et mitigation des risques.\n4. Maladie de Lyme chez les animaux. \n**Gratuit**
URL:https://cfsl-femmes.com/event/conference-les-tiques-et-la-maladie-de-lyme-ce-que-vous-devez-savoir/
CATEGORIES:Conférences
END:VEVENT
END:VCALENDAR