BEGIN:VCALENDAR
VERSION:2.0
PRODID:-//Carrefour des femmes de Saint-Léonard - ECPv6.6.2//NONSGML v1.0//EN
CALSCALE:GREGORIAN
METHOD:PUBLISH
X-ORIGINAL-URL:https://cfsl-femmes.com
X-WR-CALDESC:évènements pour Carrefour des femmes de Saint-Léonard
REFRESH-INTERVAL;VALUE=DURATION:PT1H
X-Robots-Tag:noindex
X-PUBLISHED-TTL:PT1H
BEGIN:VTIMEZONE
TZID:UTC
BEGIN:STANDARD
TZOFFSETFROM:+0000
TZOFFSETTO:+0000
TZNAME:UTC
DTSTART:20250101T000000
END:STANDARD
END:VTIMEZONE
BEGIN:VEVENT
DTSTART;TZID=UTC:20250527T100000
DTEND;TZID=UTC:20250527T120000
DTSTAMP:20260420T013155
CREATED:20250320T160508Z
LAST-MODIFIED:20250320T160508Z
UID:301-1748340000-1748347200@cfsl-femmes.com
SUMMARY:Sentinelles en gériatrie sociale - Dans la grande salle
DESCRIPTION:**Animatrice : Navigatrice en gériatrie sociale de chez Novaide****Places disponibles : 20** \nDans cette formation\, les futures sentinelles en gériatrie sociale apprendront comment être un maillon important de la communauté bienveillante autour des aînées.
URL:https://cfsl-femmes.com/event/sentinelles-en-geriatrie-sociale-dans-la-grande-salle/
CATEGORIES:Conférences
END:VEVENT
END:VCALENDAR