BEGIN:VCALENDAR
VERSION:2.0
PRODID:-//Carrefour des femmes de Saint-Léonard - ECPv6.6.2//NONSGML v1.0//EN
CALSCALE:GREGORIAN
METHOD:PUBLISH
X-WR-CALNAME:Carrefour des femmes de Saint-Léonard
X-ORIGINAL-URL:https://cfsl-femmes.com
X-WR-CALDESC:évènements pour Carrefour des femmes de Saint-Léonard
REFRESH-INTERVAL;VALUE=DURATION:PT1H
X-Robots-Tag:noindex
X-PUBLISHED-TTL:PT1H
BEGIN:VTIMEZONE
TZID:UTC
BEGIN:STANDARD
TZOFFSETFROM:+0000
TZOFFSETTO:+0000
TZNAME:UTC
DTSTART:20250101T000000
END:STANDARD
END:VTIMEZONE
BEGIN:VEVENT
DTSTART;TZID=UTC:20250612T100000
DTEND;TZID=UTC:20250612T120000
DTSTAMP:20260420T013250
CREATED:20250320T173610Z
LAST-MODIFIED:20250320T173610Z
UID:345-1749722400-1749729600@cfsl-femmes.com
SUMMARY:L’histoire du Québec à travers ses chansons - Sur Zoom
DESCRIPTION:**Animatrice : Johanne Hébert****Places disponibles : 100** \nL’histoire du Québec\, ses événements et personnages marquants\, ont inspiré plusieurs chansons à nos artistes auteurs\, compositeurs et interprètes. D’autre part\, plusieurs chansons font aujourd’hui partie de notre patrimoine. Venez découvrir le récit de notre histoire\, illustré par nos plus belles chansons. \n**Prix membre : 15 $ / Prix non-membre : 20 $**
URL:https://cfsl-femmes.com/event/lhistoire-du-quebec-a-travers-ses-chansons-sur-zoom-2/
CATEGORIES:Conférences
END:VEVENT
END:VCALENDAR