BEGIN:VCALENDAR
VERSION:2.0
PRODID:-//Carrefour des femmes de Saint-Léonard - ECPv6.6.2//NONSGML v1.0//EN
CALSCALE:GREGORIAN
METHOD:PUBLISH
X-ORIGINAL-URL:https://cfsl-femmes.com
X-WR-CALDESC:évènements pour Carrefour des femmes de Saint-Léonard
REFRESH-INTERVAL;VALUE=DURATION:PT1H
X-Robots-Tag:noindex
X-PUBLISHED-TTL:PT1H
BEGIN:VTIMEZONE
TZID:UTC
BEGIN:STANDARD
TZOFFSETFROM:+0000
TZOFFSETTO:+0000
TZNAME:UTC
DTSTART:20250101T000000
END:STANDARD
END:VTIMEZONE
BEGIN:VEVENT
DTSTART;TZID=UTC:20250618T100000
DTEND;TZID=UTC:20250618T120000
DTSTAMP:20260420T013528
CREATED:20250320T165024Z
LAST-MODIFIED:20250320T165024Z
UID:335-1750240800-1750248000@cfsl-femmes.com
SUMMARY:Vieillissement et santé mentale - En hybride
DESCRIPTION:**Organisme : Arborescence****Places disponibles : 20 en présentiel\, 100 sur Zoom** \nComment le vieillissement et la perte d’autonomie influencent-ils la santé mentale et inversement? En vieillissant\, nous faisons face à des changements qui peuvent avoir un impact sur notre bien-être : perte d’autonomie\, isolement\, transitions de vie… Comment préserver notre équilibre mental à travers ces étapes? \nCet atelier vous propose d’explorer les facteurs qui influencent la santé mentale des aînées et les moyens de favoriser un bien-être durable. Ensemble\, nous réfléchirons aux liens entre vieillissement et santé mentale\, partagerons des expériences et découvrirons des stratégies pour mieux vivre ces transitions. \n**Gratuit**
URL:https://cfsl-femmes.com/event/vieillissement-et-sante-mentale-en-hybride/
CATEGORIES:Conférences
END:VEVENT
BEGIN:VEVENT
DTSTART;TZID=UTC:20250618T133000
DTEND;TZID=UTC:20250618T153000
DTSTAMP:20260420T013528
CREATED:20250320T165038Z
LAST-MODIFIED:20250320T165038Z
UID:337-1750253400-1750260600@cfsl-femmes.com
SUMMARY:Conférence - Vivre sans toit : les réalités de l'itinérance contemporaine
DESCRIPTION:**Conférencier : Annie Archambault****Places disponibles : 40 en présentiel\, 100 sur Zoom** \nL’itinérance est un phénomène complexe qui touche de nombreuses personnes\, souvent vulnérables\, confrontées à des situations de précarité extrême. Elle résulte de facteurs multiples\, tels que le manque de logements abordables\, la santé mentale\, la dépendance et la précarité économique. \nAnnie Archambault\, influenceuse reconnue pour son engagement social\, utilise ses réseaux sociaux pour sensibiliser le public aux causes qui lui tiennent à cœur\, notamment l’itinérance. En partageant des témoignages et en soutenant des initiatives locales\, elle cherche à ouvrir les yeux sur la réalité de celles qui vivent dans la rue et à encourager des actions concrètes pour améliorer leur situation. \n**Gratuit**
URL:https://cfsl-femmes.com/event/conference-vivre-sans-toit-les-realites-de-litinerance-contemporaine/
CATEGORIES:Conférences
END:VEVENT
END:VCALENDAR