BEGIN:VCALENDAR
VERSION:2.0
PRODID:-//Carrefour des femmes de Saint-Léonard - ECPv6.6.2//NONSGML v1.0//EN
CALSCALE:GREGORIAN
METHOD:PUBLISH
X-WR-CALNAME:Carrefour des femmes de Saint-Léonard
X-ORIGINAL-URL:https://cfsl-femmes.com
X-WR-CALDESC:évènements pour Carrefour des femmes de Saint-Léonard
REFRESH-INTERVAL;VALUE=DURATION:PT1H
X-Robots-Tag:noindex
X-PUBLISHED-TTL:PT1H
BEGIN:VTIMEZONE
TZID:UTC
BEGIN:STANDARD
TZOFFSETFROM:+0000
TZOFFSETTO:+0000
TZNAME:UTC
DTSTART:20260101T000000
END:STANDARD
END:VTIMEZONE
BEGIN:VEVENT
DTSTART;TZID=UTC:20260204T133000
DTEND;TZID=UTC:20260204T153000
DTSTAMP:20260419T134453
CREATED:20260108T182216Z
LAST-MODIFIED:20260108T182216Z
UID:1158-1770211800-1770219000@cfsl-femmes.com
SUMMARY:🎤 La Place Versailles : une révolution commerciale - Dans la grande salle et sur Zoom
DESCRIPTION:Animateur : Olivier Dufresne\, directeur-historien à l’Atelier d’histoire Mercier-Hochelaga-Maisonneuve\nPlaces disponibles : 40 en présentiel / 100 sur Zoom \nAlors que la disparition de la Place Versailles est annoncée\, cette conférence vous propose de découvrir l’histoire de ce centre commercial – premier centre commercial couvert à Montréal en 1963. \nNote : Lors de votre inscription\, il est important de mentionner si vous voulez participer en présentiel ou par Zoom.
URL:https://cfsl-femmes.com/event/%f0%9f%8e%a4-la-place-versailles-une-revolution-commerciale-dans-la-grande-salle-et-sur-zoom/
CATEGORIES:Conférences
END:VEVENT
END:VCALENDAR