BEGIN:VCALENDAR
VERSION:2.0
PRODID:-//Carrefour des femmes de Saint-Léonard - ECPv6.6.2//NONSGML v1.0//EN
CALSCALE:GREGORIAN
METHOD:PUBLISH
X-WR-CALNAME:Carrefour des femmes de Saint-Léonard
X-ORIGINAL-URL:https://cfsl-femmes.com
X-WR-CALDESC:évènements pour Carrefour des femmes de Saint-Léonard
REFRESH-INTERVAL;VALUE=DURATION:PT1H
X-Robots-Tag:noindex
X-PUBLISHED-TTL:PT1H
BEGIN:VTIMEZONE
TZID:UTC
BEGIN:STANDARD
TZOFFSETFROM:+0000
TZOFFSETTO:+0000
TZNAME:UTC
DTSTART:20260101T000000
END:STANDARD
END:VTIMEZONE
BEGIN:VEVENT
DTSTART;TZID=UTC:20260210T133000
DTEND;TZID=UTC:20260210T143000
DTSTAMP:20260419T132748
CREATED:20260108T181430Z
LAST-MODIFIED:20260108T181430Z
UID:1123-1770730200-1770733800@cfsl-femmes.com
SUMMARY:🩺 Conseils santé - Dans la grande salle
DESCRIPTION:Animatrice : Antonietta Carlucci\, infirmière retraitée bénévole\nPlaces disponibles : 10 \nAntonietta Carlucci\, infirmière à la retraite passionnée par la santé naturelle\, partagera son savoir au service de votre bien-être. Elle propose désormais des conseils de santé naturels accessibles à toutes\, ainsi que des astuces pour soulager les petits maux du quotidien. Elle vous accompagnera avec bienveillance vers une santé plus douce et respectueuse du corps. Son approche repose sur le bon sens\, l’écoute\, et le désir de transmettre une santé au naturel\, sans prétention\, mais avec cœur et authenticité. \nAttention : Vous aurez besoin d’un stylo et de quoi prendre des notes.
URL:https://cfsl-femmes.com/event/%f0%9f%a9%ba-conseils-sante-dans-la-grande-salle/
CATEGORIES:Conférences
END:VEVENT
END:VCALENDAR