BEGIN:VCALENDAR
VERSION:2.0
PRODID:-//Carrefour des femmes de Saint-Léonard - ECPv6.6.2//NONSGML v1.0//EN
CALSCALE:GREGORIAN
METHOD:PUBLISH
X-ORIGINAL-URL:https://cfsl-femmes.com
X-WR-CALDESC:évènements pour Carrefour des femmes de Saint-Léonard
REFRESH-INTERVAL;VALUE=DURATION:PT1H
X-Robots-Tag:noindex
X-PUBLISHED-TTL:PT1H
BEGIN:VTIMEZONE
TZID:UTC
BEGIN:STANDARD
TZOFFSETFROM:+0000
TZOFFSETTO:+0000
TZNAME:UTC
DTSTART:20260101T000000
END:STANDARD
END:VTIMEZONE
BEGIN:VEVENT
DTSTART;TZID=UTC:20260218T133000
DTEND;TZID=UTC:20260218T153000
DTSTAMP:20260419T133046
CREATED:20260108T182216Z
LAST-MODIFIED:20260108T182216Z
UID:1160-1771421400-1771428600@cfsl-femmes.com
SUMMARY:🎤 L’Orchestre d’Harmonie Léonardo Da Vinci - Dans la grande salle et sur Zoom
DESCRIPTION:Animatrice : Hélène Louis-Seize\, présidente du conseil d’administration de l’Orchestre\nPlaces disponibles : 40 en présentiel / 100 sur Zoom \nHélène Louis-Seize prendra la parole pour présenter la mission de l’orchestre de rendre la musique orchestrale accessible à tous\, favoriser l’éducation musicale et l’intégration de la relève musicale tout en créant des liens forts entre les artistes et le public local. Une vision inspirante qui attire des musiciens passionnés de tous horizons. Ensemble\, ils jouent une partition commune : celle de l’accessibilité\, de l’excellence et de l’engagement communautaire. Un orchestre à découvrir à Saint Léonard. \nNote : Lors de votre inscription\, il est important de mentionner si vous voulez participer en présentiel ou par Zoom.
URL:https://cfsl-femmes.com/event/%f0%9f%8e%a4-lorchestre-dharmonie-leonardo-da-vinci-dans-la-grande-salle-et-sur-zoom/
CATEGORIES:Conférences
END:VEVENT
END:VCALENDAR